BEGIN:VCALENDAR
VERSION:2.0
PRODID:-//Karen A. Chase - ECPv6.15.10//NONSGML v1.0//EN
CALSCALE:GREGORIAN
METHOD:PUBLISH
X-ORIGINAL-URL:https://karenachase.com
X-WR-CALDESC:Events for Karen A. Chase
REFRESH-INTERVAL;VALUE=DURATION:PT1H
X-Robots-Tag:noindex
X-PUBLISHED-TTL:PT1H
BEGIN:VTIMEZONE
TZID:America/New_York
BEGIN:DAYLIGHT
TZOFFSETFROM:-0500
TZOFFSETTO:-0400
TZNAME:EDT
DTSTART:20190310T070000
END:DAYLIGHT
BEGIN:STANDARD
TZOFFSETFROM:-0400
TZOFFSETTO:-0500
TZNAME:EST
DTSTART:20191103T060000
END:STANDARD
BEGIN:DAYLIGHT
TZOFFSETFROM:-0500
TZOFFSETTO:-0400
TZNAME:EDT
DTSTART:20200308T070000
END:DAYLIGHT
BEGIN:STANDARD
TZOFFSETFROM:-0400
TZOFFSETTO:-0500
TZNAME:EST
DTSTART:20201101T060000
END:STANDARD
BEGIN:DAYLIGHT
TZOFFSETFROM:-0500
TZOFFSETTO:-0400
TZNAME:EDT
DTSTART:20210314T070000
END:DAYLIGHT
BEGIN:STANDARD
TZOFFSETFROM:-0400
TZOFFSETTO:-0500
TZNAME:EST
DTSTART:20211107T060000
END:STANDARD
END:VTIMEZONE
BEGIN:VEVENT
DTSTART;TZID=America/New_York:20200320T160000
DTEND;TZID=America/New_York:20200320T170000
DTSTAMP:20260423T211829
CREATED:20200207T172202Z
LAST-MODIFIED:20200310T152903Z
UID:4794-1584720000-1584723600@karenachase.com
SUMMARY:Canceled—Virginia Festival of the Book
DESCRIPTION:Sadly\, this event has been canceled. Please check for other events that are open to the public on my events page. \nAn annual event\, Virginia Festival of the Book is five days of author and publishing presentations. This year\, it runs from March 18–22. Find me on stage at: New Works by Virginia Humanities Fellows. \nVirginia Humanities Fellows Karen Chase (Carrying Independence)\, Keith Clark (Navigating the Fiction of Ernest J. Gaines: A Roadmap for Readers)\, and Charles Thompson (Going Over Home: A Search for Rural Justice In an Unsettled Land) share their most recent works. Book sales and signing will follow. Charlottesville\, VA. FREE to attend and open to the public.
URL:https://karenachase.com/event/virginia-festival-of-the-book/
CATEGORIES:Book Festival,Charlottesville,Virginia
END:VEVENT
BEGIN:VEVENT
DTSTART;TZID=America/New_York:20200218T120000
DTEND;TZID=America/New_York:20200218T130000
DTSTAMP:20260423T211829
CREATED:20200107T212506Z
LAST-MODIFIED:20200107T213040Z
UID:4783-1582027200-1582030800@karenachase.com
SUMMARY:Charlottesville: Eliza! Eliza! Presentation
DESCRIPTION:A talk revealing the life and writings of Elizabeth House Trist\, the often-overlooked American woman who traveled westward in 1783\, two decades before the famed Lewis and Clark expedition. Friend to Thomas Jefferson\, Trist is one of two women featured in Chase’s narrative nonfiction project entitled “Eliza! Eliza!”  Free and open to the public\, with a casual lunch included.
URL:https://karenachase.com/event/eliza-eliza/
LOCATION:VA Humanities Offices\, 145 Ednam Drive\, Charlottesville\, 22903\, United States
CATEGORIES:Charlottesville,Virginia
END:VEVENT
BEGIN:VEVENT
DTSTART;TZID=America/New_York:20200206T100000
DTEND;TZID=America/New_York:20200206T130000
DTSTAMP:20260423T211829
CREATED:20190826T194239Z
LAST-MODIFIED:20190826T194239Z
UID:4653-1580983200-1580994000@karenachase.com
SUMMARY:Charlottesville - Albemarle Chapter DAR
DESCRIPTION:A luncheon presentation to the Albemarle Chapter NSDAR for their February meeting. Details TBD. Members and guests welcome. Please reach out to the chapter for details.
URL:https://karenachase.com/event/charlottesville-albemarle-chapter-dar/
CATEGORIES:Charlottesville,DAR Event,Virginia
END:VEVENT
END:VCALENDAR