BEGIN:VCALENDAR
VERSION:2.0
PRODID:-//Karen A. Chase - ECPv6.15.10//NONSGML v1.0//EN
CALSCALE:GREGORIAN
METHOD:PUBLISH
X-ORIGINAL-URL:https://karenachase.com
X-WR-CALDESC:Events for Karen A. Chase
REFRESH-INTERVAL;VALUE=DURATION:PT1H
X-Robots-Tag:noindex
X-PUBLISHED-TTL:PT1H
BEGIN:VTIMEZONE
TZID:America/New_York
BEGIN:DAYLIGHT
TZOFFSETFROM:-0500
TZOFFSETTO:-0400
TZNAME:EDT
DTSTART:20180311T070000
END:DAYLIGHT
BEGIN:STANDARD
TZOFFSETFROM:-0400
TZOFFSETTO:-0500
TZNAME:EST
DTSTART:20181104T060000
END:STANDARD
BEGIN:DAYLIGHT
TZOFFSETFROM:-0500
TZOFFSETTO:-0400
TZNAME:EDT
DTSTART:20190310T070000
END:DAYLIGHT
BEGIN:STANDARD
TZOFFSETFROM:-0400
TZOFFSETTO:-0500
TZNAME:EST
DTSTART:20191103T060000
END:STANDARD
BEGIN:DAYLIGHT
TZOFFSETFROM:-0500
TZOFFSETTO:-0400
TZNAME:EDT
DTSTART:20200308T070000
END:DAYLIGHT
BEGIN:STANDARD
TZOFFSETFROM:-0400
TZOFFSETTO:-0500
TZNAME:EST
DTSTART:20201101T060000
END:STANDARD
BEGIN:DAYLIGHT
TZOFFSETFROM:-0500
TZOFFSETTO:-0400
TZNAME:EDT
DTSTART:20210314T070000
END:DAYLIGHT
BEGIN:STANDARD
TZOFFSETFROM:-0400
TZOFFSETTO:-0500
TZNAME:EST
DTSTART:20211107T060000
END:STANDARD
END:VTIMEZONE
BEGIN:VEVENT
DTSTART;TZID=America/New_York:20200206T100000
DTEND;TZID=America/New_York:20200206T130000
DTSTAMP:20260423T185157
CREATED:20190826T194239Z
LAST-MODIFIED:20190826T194239Z
UID:4653-1580983200-1580994000@karenachase.com
SUMMARY:Charlottesville - Albemarle Chapter DAR
DESCRIPTION:A luncheon presentation to the Albemarle Chapter NSDAR for their February meeting. Details TBD. Members and guests welcome. Please reach out to the chapter for details.
URL:https://karenachase.com/event/charlottesville-albemarle-chapter-dar/
CATEGORIES:Charlottesville,DAR Event,Virginia
END:VEVENT
BEGIN:VEVENT
DTSTART;TZID=America/New_York:20200127T120000
DTEND;TZID=America/New_York:20200127T133000
DTSTAMP:20260423T185157
CREATED:20191101T165456Z
LAST-MODIFIED:20191101T165456Z
UID:4729-1580126400-1580131800@karenachase.com
SUMMARY:Shepherd's Center\, Richmond
DESCRIPTION:American Revolution: Beyond the Battlefields. A presentation about the history behind the Revolution as seen through the eyes of a novelist. Bring your own bagged lunch. \nRegistration required. Please visit the Shepherd’s Center website for details.
URL:https://karenachase.com/event/shepherds-center-richmond/
LOCATION:St. Luke’s Lutheran Church\, 7757 Chippenham Parkway\, Richmond\, Virginia
CATEGORIES:Richmond
END:VEVENT
BEGIN:VEVENT
DTSTART;TZID=America/New_York:20200116T110000
DTEND;TZID=America/New_York:20200116T130000
DTSTAMP:20260423T185157
CREATED:20190826T183554Z
LAST-MODIFIED:20190826T183554Z
UID:4648-1579172400-1579179600@karenachase.com
SUMMARY:West Point Old St. John's Chapter DAR
DESCRIPTION:“Carrying the Declaration of Independence\,“ luncheon presentation to the Old St. John’s Chapter NSDAR. Open to members and their guests. Please contact the chapter for details. Location and time TBD.
URL:https://karenachase.com/event/west-point-old-st-johns-chapter-dar/
CATEGORIES:DAR Event,Virginia
END:VEVENT
BEGIN:VEVENT
DTSTART;TZID=America/New_York:20200111T100000
DTEND;TZID=America/New_York:20200111T140000
DTSTAMP:20260423T185157
CREATED:20191101T164601Z
LAST-MODIFIED:20191101T164750Z
UID:4724-1578736800-1578751200@karenachase.com
SUMMARY:Historic Halifax\, NC: Women Writers Panel
DESCRIPTION:Women Writers of the Southern American Revolution. A panel discussion with Karen A. Chase\, Suzanne Adair\, and Libby McNamee. Cohosted by Historic Halifax\, Friends of Historic Halifax\, and the Halifax County Library System \n10:00am – 12:00pm Women’s author panel at the Halifax Library\n12:00pm – 12:45pm Lunch break (provided to attendees)\n1:00pm – 2:00pm Tour of Historic Halifax \nTicketed Event. Pricing and Availability info to come.
URL:https://karenachase.com/event/historic-halifax-nc/
CATEGORIES:North Carolina,Ticketed/Invitation Event,Tour
END:VEVENT
BEGIN:VEVENT
DTSTART;TZID=America/New_York:20200107T100000
DTEND;TZID=America/New_York:20200107T140000
DTSTAMP:20260423T185157
CREATED:20190522T204349Z
LAST-MODIFIED:20190522T204349Z
UID:4544-1578391200-1578405600@karenachase.com
SUMMARY:Ketoctin Chapter (Virginia) DAR Luncheon
DESCRIPTION:A luncheon presentation to the Ketoctin Chapter. Invitation and reservation required. Please contact the chapter for details. Venue TBD.
URL:https://karenachase.com/event/ketoctin-chapter-virginia-dar-luncheon/
CATEGORIES:DAR Event,Virginia
END:VEVENT
BEGIN:VEVENT
DTSTART;TZID=America/New_York:20200105T100000
DTEND;TZID=America/New_York:20200105T140000
DTSTAMP:20260423T185157
CREATED:20190826T184130Z
LAST-MODIFIED:20190826T184233Z
UID:4650-1578218400-1578232800@karenachase.com
SUMMARY:Benedict Arnold's Raid\, St. John's Foundation Presentation
DESCRIPTION:A presentation and book signing as part of the reenactment of Benedict Arnold’s Raid (Chimborazo to St. John’s Church). Details TBD.
URL:https://karenachase.com/event/benedict-arnolds-raid-st-johns-foundation-presentation/
CATEGORIES:Reenactment,Richmond,Virginia
END:VEVENT
BEGIN:VEVENT
DTSTART;TZID=America/New_York:20191214T100000
DTEND;TZID=America/New_York:20191214T123000
DTSTAMP:20260423T185157
CREATED:20190520T193212Z
LAST-MODIFIED:20190522T132613Z
UID:4528-1576317600-1576326600@karenachase.com
SUMMARY:Lynnhaven Parish DAR Chapter
DESCRIPTION:Author presentation to the Lynnhaven Parish DAR Chapter (Virginia Beach).
URL:https://karenachase.com/event/lynnhaven-parish-dar-chapter/
LOCATION:Atlantic Shores Retirement Center\, 985 Fleet Dr.\, Virginia Beach\, Virginia\, 23454
CATEGORIES:DAR Event
END:VEVENT
BEGIN:VEVENT
DTSTART;TZID=America/New_York:20191210T183000
DTEND;TZID=America/New_York:20191210T193000
DTSTAMP:20260423T185157
CREATED:20190730T212506Z
LAST-MODIFIED:20190730T212506Z
UID:4623-1576002600-1576006200@karenachase.com
SUMMARY:Carrying the Declaration at the Glen Allen Library
DESCRIPTION:A presentation at the Henrico Library Glen Allen branch\, home of a Founding Fathers resource collection: \nPresentation: Carrying Independence & The Founding Fathers\nWhy was there just one copy of the Declaration with the signatures? Which Continental Congress delegates did not attend the formal signing? How were those signatures acquired? Once it was signed\, where was the Declaration kept? Learn the history of the Declaration of Independence as discovered by author of the founding-documents novel\, Carrying Independence.
URL:https://karenachase.com/event/carrying-the-declaration-at-the-glen-allen-library/
LOCATION:Glen Allen LIbrary\, 10501 Staples Mill Rd\, Glen Allen\, VA\, 23060\, United States
CATEGORIES:Library Event
END:VEVENT
BEGIN:VEVENT
DTSTART;TZID=America/New_York:20191204T120000
DTEND;TZID=America/New_York:20191204T130000
DTSTAMP:20260423T185157
CREATED:20191030T213813Z
LAST-MODIFIED:20191030T214232Z
UID:4714-1575460800-1575464400@karenachase.com
SUMMARY:Virginia Humanities Research Fellow Talk
DESCRIPTION:Bring a lunch to this presentation revealing the life and writings of Elizabeth House Trist\, the often-overlooked American woman who traveled westward in 1783\, two decades before the famed Lewis and Clark expedition. She kept the diary at the behest of Thomas Jefferson\, her contemporary and confidant. An examination of Trist’s travel journal entries\, objects\, and letters\, offers a glimpse into her personal relationship with Jefferson and other well-known founders.
URL:https://karenachase.com/event/virginia-humanities-research-fellow-talk/
LOCATION:Library of Virginia\, Richmond\, 800 East Broad Street\, Richmond\, Virginia\, 23219
CATEGORIES:Richmond,Virginia
END:VEVENT
BEGIN:VEVENT
DTSTART;TZID=America/New_York:20191117T030000
DTEND;TZID=America/New_York:20191117T163000
DTSTAMP:20260423T185157
CREATED:20191030T213333Z
LAST-MODIFIED:20191113T224928Z
UID:4712-1573959600-1574008200@karenachase.com
SUMMARY:Goochland County Historical Society
DESCRIPTION:Beyond the Battlefields: The American Revolution as Seen Through the Eyes of a Novelist. At Providence Church.
URL:https://karenachase.com/event/goochland-county-historical-society/
LOCATION:Providence Church\, 3388 Three Chopt Road\, Gum Springs\, VA\, 23065\, United States
END:VEVENT
BEGIN:VEVENT
DTSTART;VALUE=DATE:20191116
DTEND;VALUE=DATE:20191117
DTSTAMP:20260423T185157
CREATED:20190520T194518Z
LAST-MODIFIED:20190520T194518Z
UID:4532-1573862400-1573948799@karenachase.com
SUMMARY:History Camp Presentation
DESCRIPTION:Carrying the Declaration of Independence. Author presentation at the Virginia History Camp event. Details TBD. Sign-up for the History Camp Virginia newsletter.
URL:https://karenachase.com/event/history-camp-presentation/
LOCATION:George Mason University\, 4400 University Drive\, Fairfax\, Virginia\, 22030
END:VEVENT
BEGIN:VEVENT
DTSTART;TZID=America/New_York:20191029T100000
DTEND;TZID=America/New_York:20191029T130000
DTSTAMP:20260423T185157
CREATED:20190501T192554Z
LAST-MODIFIED:20190501T192554Z
UID:4479-1572343200-1572354000@karenachase.com
SUMMARY:Bermuda Hundred DAR Chapter
DESCRIPTION:Luncheon presentation for the Bermuda Hundred monthly meeting. “Beyond the Battlefield.”
URL:https://karenachase.com/event/bermuda-hundred-dar-chapter/
CATEGORIES:DAR Event
END:VEVENT
BEGIN:VEVENT
DTSTART;TZID=America/New_York:20191026T100000
DTEND;TZID=America/New_York:20191026T130000
DTSTAMP:20260423T185157
CREATED:20190703T192226Z
LAST-MODIFIED:20190718T193714Z
UID:4596-1572084000-1572094800@karenachase.com
SUMMARY:Frances Bland Randolph DAR Chapter
DESCRIPTION:A luncheon presentation to the Frances Bland Randolph Chapter in Petersburg\, VA. Invitation and reservation required. Please contact the chapter for details. Venue TBA.
URL:https://karenachase.com/event/frances-bland-randolph-dar-chapter/
CATEGORIES:DAR Event,Virginia
END:VEVENT
BEGIN:VEVENT
DTSTART;TZID=America/New_York:20191019T100000
DTEND;TZID=America/New_York:20191019T140000
DTSTAMP:20260423T185157
CREATED:20190718T201718Z
LAST-MODIFIED:20190718T201718Z
UID:4615-1571479200-1571493600@karenachase.com
SUMMARY:Delaware State Society DAR - Fall Conference
DESCRIPTION:A presentation to the Delaware State Society\, Daughters of the American Revolution at their Fall State Conference. Program is “Carrying Independence\,” the stories behind the book and the document. RSVP of members\, please contact your chapter for details.
URL:https://karenachase.com/event/delaware-state-society-dar-fall-conference/
LOCATION:Duncan Center\, 500 W Loockerman St\, Dover\, DE\, 19904\, United States
CATEGORIES:DAR Event,Delaware
END:VEVENT
BEGIN:VEVENT
DTSTART;TZID=America/New_York:20191018T100000
DTEND;TZID=America/New_York:20191018T133000
DTSTAMP:20260423T185157
CREATED:20190523T155129Z
LAST-MODIFIED:20190523T155925Z
UID:4547-1571392800-1571405400@karenachase.com
SUMMARY:Commonwealth Chapter NSDAR Luncheon
DESCRIPTION:Author presentation to my own Commonwealth Chapter\, at their October meeting\, followed by a luncheon. Luncheon RSVP required. Members and guests welcome.
URL:https://karenachase.com/event/commonwealth-chapter-nsdar-luncheon/
CATEGORIES:DAR Event,Richmond,Virginia
END:VEVENT
BEGIN:VEVENT
DTSTART;TZID=America/New_York:20191004T100000
DTEND;TZID=America/New_York:20191004T133000
DTSTAMP:20260423T185157
CREATED:20190423T134316Z
LAST-MODIFIED:20190423T134316Z
UID:4454-1570183200-1570195800@karenachase.com
SUMMARY:Richmond Nathaniel Bacon DAR Chapter Luncheon
DESCRIPTION:Chapter luncheon and October meeting. Open to members. Guests are welcome\, but please contact the Regent in advance regarding attendance and/or membership.
URL:https://karenachase.com/event/richmond-nathaniel-bacon-dar-chapter-luncheon/
LOCATION:Manakin Episcopal Church\, 985 Hugenot Trail\, Midlothian\, VA\, 23113\, United States
END:VEVENT
BEGIN:VEVENT
DTSTART;TZID=America/New_York:20190921T170000
DTEND;TZID=America/New_York:20190921T190000
DTSTAMP:20260423T185157
CREATED:20190520T192439Z
LAST-MODIFIED:20190912T004658Z
UID:4526-1569085200-1569092400@karenachase.com
SUMMARY:Books\, Libraries & Oysters
DESCRIPTION:In coordination with Book People of Richmond\, and the West End Library. Oyster roast\, author presentation. Revolutionary food & drink at 5PM\, and book talk at 6PM. The event\, and food\, and drinks is all free but you need a ticket to attend. Reserve your space here. Or to register via the Facebook event\, click here.
URL:https://karenachase.com/event/books-libraries-oysters/
LOCATION:WestEnd Library\, 5420 Patterson Ave.\, Richmond
CATEGORIES:Richmond,Ticketed/Invitation Event,Virginia
END:VEVENT
BEGIN:VEVENT
DTSTART;TZID=America/New_York:20190831T190000
DTEND;TZID=America/New_York:20190831T203000
DTSTAMP:20260423T185157
CREATED:20190520T195945Z
LAST-MODIFIED:20190705T140030Z
UID:4540-1567278000-1567283400@karenachase.com
SUMMARY:New Dominion Bookshop\, Charlottesville
DESCRIPTION:Author presentation & reading. Chasing Histories to write Carrying Independence.
URL:https://karenachase.com/event/new-dominion-bookshop-charlottesville/
LOCATION:New Dominion Bookshop\, 404 East Main St\, Charlottesville\, VA\, 22902\, United States
CATEGORIES:Indie Bookshop,Virginia
END:VEVENT
BEGIN:VEVENT
DTSTART;VALUE=DATE:20190809
DTEND;VALUE=DATE:20190812
DTSTAMP:20260423T185157
CREATED:20190520T195325Z
LAST-MODIFIED:20190520T195325Z
UID:4536-1565308800-1565567999@karenachase.com
SUMMARY:When Words Collide Book Festival Calgary\, Canada
DESCRIPTION:A weekend-long book festival in Calgary\, Alberta\, Canada. Registration is limited to 800\, open to readers\, writers\, artists\, and publishers of fiction. Click here for passes and rates. \nKaren’s presentations include:
URL:https://karenachase.com/event/when-words-collide-book-festival-calgary-canada/
LOCATION:Delta Calgary South\, 135 Southland Dr SE\, Calgary\, Alberta\, T2J 5X5\, Canada
CATEGORIES:Book Festival,Canada,Ticketed/Invitation Event,Writing Conference
END:VEVENT
BEGIN:VEVENT
DTSTART;TZID=America/New_York:20190806T180000
DTEND;TZID=America/New_York:20190806T190000
DTSTAMP:20260423T185157
CREATED:20190520T190643Z
LAST-MODIFIED:20190520T190939Z
UID:4520-1565114400-1565118000@karenachase.com
SUMMARY:The Little Bookshop Author Presentation
DESCRIPTION:Presentation: Oaths\, Revolution\, and the making of a 1776 novel. Author meet & greet\, and bookish event.
URL:https://karenachase.com/event/the-little-bookshop-author-presentation/
LOCATION:The Little Bookshop\, 1318 Sycamore Square\, Midlothian\, Virginia\, 23113
CATEGORIES:Richmond
END:VEVENT
BEGIN:VEVENT
DTSTART;TZID=America/New_York:20190724T180000
DTEND;TZID=America/New_York:20190724T190000
DTSTAMP:20260423T185157
CREATED:20190417T213046Z
LAST-MODIFIED:20190520T193545Z
UID:4415-1563991200-1563994800@karenachase.com
SUMMARY:Roanoke Summer Reading Program—Author Presentation
DESCRIPTION:Roanoke area book launch and talk: “Chasing Histories for Carrying Independence.” Williamson Road Library\, Roanoke\, VA. Snacks and beverages provided. Open and free to all.
URL:https://karenachase.com/event/roanoke-summer-reading-program-author-presentation/
LOCATION:Williamson Road Library\, Roanoke\, VA.\, 3837 Williamson Rd\, Roanoke\, VA\, 24012\, United States
ORGANIZER;CN="":MAILTO:robbiejhebert@yahoo.com
END:VEVENT
BEGIN:VEVENT
DTSTART;TZID=America/New_York:20190625T083000
DTEND;TZID=America/New_York:20190625T213000
DTSTAMP:20260423T185157
CREATED:20190509T204332Z
LAST-MODIFIED:20190613T211649Z
UID:4493-1561451400-1561498200@karenachase.com
SUMMARY:Chasing Histories Breakfast
DESCRIPTION:Richmond\, VA ~ James River Writers presents Chasing Histories Summer Speaker Event & Breakfast.  Continental breakfast and beverages provided. A FREE event\, but please RSVP: Visit JamesRiverWriters Event listing. or sign up via the Facebook Event. \n \n– Thank you to Historic St. John’s Church Foundation for their generous support of this event.
URL:https://karenachase.com/event/chasing-histories-breakfast/
LOCATION:Historic St. John’s Church Parish Hall\, 2401 East Broad Street\, Richmond\, Virginia\, 23223
CATEGORIES:Richmond,Ticketed/Invitation Event
END:VEVENT
BEGIN:VEVENT
DTSTART;VALUE=DATE:20190620
DTEND;VALUE=DATE:20190623
DTSTAMP:20260423T185157
CREATED:20190417T212739Z
LAST-MODIFIED:20190703T191213Z
UID:4412-1560988800-1561247999@karenachase.com
SUMMARY:Historical Novel Society North America Conference
DESCRIPTION:Presentation Topics: Brand Yourself (Thurs\,. 20th) and Beyond the Battlefield: Researching War Stories First-Hand (Fri.\, 21).
URL:https://karenachase.com/event/historical-novel-society-north-america-conference/
LOCATION:National Harbor\, Marland
END:VEVENT
BEGIN:VEVENT
DTSTART;TZID=America/New_York:20190611T180000
DTEND;TZID=America/New_York:20190611T200000
DTSTAMP:20260423T185157
CREATED:20190520T185850Z
LAST-MODIFIED:20190520T185850Z
UID:4511-1560276000-1560283200@karenachase.com
SUMMARY:Carrying Independence Book Launch
DESCRIPTION:Experience The Revolutionary War and celebrate the launch of Carrying Independence. \nCome celebrate the debut of this Revolutionary-era novel along with attendees Thomas Jefferson\, Richard Henry Lee\, & George Wythe (reenactors). Two historic cocktails will be available (cash bar). Come for the books & spirits\, stay for appetizers and dinner on the patio!
URL:https://karenachase.com/event/carrying-independence-book-launch/
LOCATION:Patrick Henry Pub\, 2300 E. Broad Street\, Richmond\, VA\, 23223\, United States
CATEGORIES:Richmond
END:VEVENT
BEGIN:VEVENT
DTSTART;TZID=America/New_York:20190504T110000
DTEND;TZID=America/New_York:20190504T170000
DTSTAMP:20260423T185157
CREATED:20190423T133749Z
LAST-MODIFIED:20190423T133749Z
UID:4450-1556967600-1556989200@karenachase.com
SUMMARY:Yorktown DAR Annual Luncheon
DESCRIPTION:Luncheon to honor the anniversary of the Custom House in Yorktown. Open to members and their guests.
URL:https://karenachase.com/event/yorktown-dar-annual-luncheon/
LOCATION:Two Rivers Country Club\, 1400 Two Rivers Rd\, Williamsburg\, VA\, 23185\, United States
END:VEVENT
BEGIN:VEVENT
DTSTART;TZID=America/New_York:20190427T140000
DTEND;TZID=America/New_York:20190427T150000
DTSTAMP:20260423T185157
CREATED:20190416T230601Z
LAST-MODIFIED:20190416T230601Z
UID:4409-1556373600-1556377200@karenachase.com
SUMMARY:How to Build Engaging Author Brands
DESCRIPTION:Solid planning advice from an author-branding professional. No registration required.
URL:https://karenachase.com/event/how-to-build-engaging-author-brands/
LOCATION:Book People Bookstore\, Richmond\, VA
END:VEVENT
END:VCALENDAR